BEGIN:VCALENDAR
VERSION:2.0
PRODID:icalendar-ruby
CALSCALE:GREGORIAN
BEGIN:VTIMEZONE
TZID:Europe/London
BEGIN:DAYLIGHT
DTSTART:20210328T020000
TZOFFSETFROM:+0000
TZOFFSETTO:+0100
RRULE:FREQ=YEARLY;BYDAY=-1SU;BYMONTH=3
TZNAME:BST
END:DAYLIGHT
BEGIN:STANDARD
DTSTART:20201025T010000
TZOFFSETFROM:+0100
TZOFFSETTO:+0000
RRULE:FREQ=YEARLY;BYDAY=-1SU;BYMONTH=10
TZNAME:GMT
END:STANDARD
END:VTIMEZONE
BEGIN:VEVENT
DTSTAMP:20260420T070531Z
UID:ax19BQ
DTSTART;VALUE=DATE:20201116
DTEND;VALUE=DATE:20201201
CLASS:PUBLIC
CREATED:20201111T155809
DESCRIPTION: The return of our Lockdown one-to-one walks\, taking place dur
 ing November dusks in a walkable environment near you. \n
LAST-MODIFIED:20220728T150106
LOCATION:Birmingham - inside the 'Blue Circle'
ORGANIZER:mailto:ben.waddington@me.com
SUMMARY:Still Walking One-to-One Walks for Lockdown 2
URL;VALUE=URI:https://ti.to/still-walking/lockdown2
URL;VALUE=URI:https://ti.to/still-walking/lockdown2
END:VEVENT
END:VCALENDAR
