BEGIN:VCALENDAR
VERSION:2.0
PRODID:icalendar-ruby
CALSCALE:GREGORIAN
BEGIN:VEVENT
DTSTAMP:20260420T070423Z
UID:qhmNmg
DTSTART;VALUE=DATE:20220909
DTEND;VALUE=DATE:20220910
CLASS:PUBLIC
CREATED:20220727T205249
DESCRIPTION: John Baskerville is Birmingham’s lost hero: through the 18th
  century\, he was successful in the business of design and industry and hi
 s influence is still felt today. Yet his presence is barely felt in his ad
 opted home city\, his story untold. However\, the clues are there if you k
 now where to look. This two-hour guided tour takes in locations\, art and 
 artefacts associated with the city’s most eminent printer\, type founder
 \, paper maker\, japanner\, grave stone carver and free-thinker. \n
LAST-MODIFIED:20220908T124859
LOCATION:Birmingham
ORGANIZER:mailto:ben.waddington@me.com
SUMMARY:Baskerville's Birmingham // Ben Waddington
URL;VALUE=URI:https://ti.to/still-walking/baskerville
URL;VALUE=URI:https://ti.to/still-walking/baskerville
END:VEVENT
END:VCALENDAR
