BEGIN:VCALENDAR
VERSION:2.0
PRODID:icalendar-ruby
CALSCALE:GREGORIAN
BEGIN:VEVENT
DTSTAMP:20260420T065725Z
UID:KI6r6A
DTSTART;VALUE=DATE:20200528
DTEND;VALUE=DATE:20200529
CLASS:PUBLIC
CREATED:20200403T200404
DESCRIPTION: Still Walking has responded to the country’s overnight Lockd
 own culture with a programme that makes the best of our limited opportunit
 y to go outdoors over the next few weeks. \n\n We’ve sought NHS advice t
 o make sure these walks will strictly observe government protocol about ex
 ercise allowances and safe distances. Above all these walks will be about 
 our health and well-being. \n\n The walks take the form of accompanied str
 olls in your area of around an hour\, ending where they begin. Essentially
  they will be an extended walk around the block. Conversation\, company an
 d comment will be the likely focus of the walks (while being valuable exer
 cise of course). The walks take place in the afternoon or early evening\, 
 or we can adapt by agreement. We’ll communicate with you ahead of the wa
 lk about where to meet and where exactly we’ll go. Over the weeks\, succ
 essive walks will respond to the themes and conversations of previous walk
 s\, but will not be recorded. In that sense\, this programme is a group wa
 lk but isolated by time over an extended period. All the walks are free. \
 n
LAST-MODIFIED:20231212T102857
LOCATION:South Birmingham
ORGANIZER:mailto:ben.waddington@me.com
SUMMARY:We are Still Walking
URL;VALUE=URI:https://ti.to/still-walking/2020
URL;VALUE=URI:https://ti.to/still-walking/2020
END:VEVENT
END:VCALENDAR
