BEGIN:VCALENDAR
VERSION:2.0
PRODID:icalendar-ruby
CALSCALE:GREGORIAN
BEGIN:VEVENT
DTSTAMP:20260420T065615Z
UID:rc30uQ
DTSTART;VALUE=DATE:20230422
DTEND;VALUE=DATE:20230619
CLASS:PUBLIC
CREATED:20230407T142524
DESCRIPTION: Still Walking celebrate the launch of '111 Places in Birmingha
 m That You Shouldn't Miss' with a new series of guided tours and events in
 spired by the locations and themes of the book. Reserve your tickets below
 : \n
LAST-MODIFIED:20230602T204415
LOCATION:Birmingham
ORGANIZER:mailto:ben.waddington@me.com
SUMMARY:Still Walking X
URL;VALUE=URI:https://ti.to/still-walking/111
URL;VALUE=URI:https://ti.to/still-walking/111
END:VEVENT
END:VCALENDAR
