BEGIN:VCALENDAR
VERSION:2.0
PRODID:icalendar-ruby
CALSCALE:GREGORIAN
BEGIN:VEVENT
DTSTAMP:20260424T171149Z
UID:WEO5sA
DTSTART;VALUE=DATE:20151223
DTEND;VALUE=DATE:20151224
CLASS:PUBLIC
CREATED:20151111T113920
DESCRIPTION: We're inviting our internationally based professionals to meet
  Dublin's best startups while they're home for Christmas. \n\n Come along 
 to our Christmas Cocktail Hour to network with our startups\, share storie
 s from your local market and kickstart your festive celebrations.  \n\n Pl
 ease RSVP to confirm your attendance by Friday\, December 18th  \n\n Venue
 : Oak Room\, The Mansion House \n\n 5.30pm - 7.00pm  \n\n @NiamhBushnell \
 n\n www.startupdublin.com | www.dublinglobe.com  \n
LAST-MODIFIED:20151223T171534
LOCATION:The Oak Room\, The Mansion House\, Dawson Street\, Dublin 2
ORGANIZER:mailto:sheila@startupdublin.com
SUMMARY:Home for Christmas? Join us for Cocktails!
URL;VALUE=URI:https://ti.to/startup-dublin-/ChristmasCocktails
URL;VALUE=URI:https://ti.to/startup-dublin-/ChristmasCocktails
END:VEVENT
END:VCALENDAR
