BEGIN:VCALENDAR
VERSION:2.0
PRODID:icalendar-ruby
CALSCALE:GREGORIAN
BEGIN:VTIMEZONE
TZID:Australia/Melbourne
BEGIN:DAYLIGHT
DTSTART:20221002T030000
TZOFFSETFROM:+1000
TZOFFSETTO:+1100
RRULE:FREQ=YEARLY;BYDAY=1SU;BYMONTH=10
TZNAME:AEDT
END:DAYLIGHT
BEGIN:STANDARD
DTSTART:20230402T020000
TZOFFSETFROM:+1100
TZOFFSETTO:+1000
RRULE:FREQ=YEARLY;BYDAY=1SU;BYMONTH=4
TZNAME:AEST
END:STANDARD
END:VTIMEZONE
BEGIN:VEVENT
DTSTAMP:20260421T172611Z
UID:mKToLw
DTSTART;VALUE=DATE:20221025
DTEND;VALUE=DATE:20221026
CLASS:PUBLIC
CREATED:20220905T170935
DESCRIPTION: \n\n Organized by the creators of: \n\n  \n\n The UNITE is bac
 k\, and so are we! \n\n Whether you have managed to get your tickets\, or 
 still waiting for your golden ticket to Unite\, we invite you to attend an
  evening full of interesting talks\, networking\, live music\, drinks\, an
 d much more. \n\n It's been a long time since we've been in the same room 
 with our fellow partners. And now that it's happening\, we're extremely ex
 cited to meet y'all. \n\n We've limited seats available\, so roll up your 
 sleeves and get the ticket ASAP. We'll be sharing more details as we get c
 loser to the event. \n\n Here's what you're likely to experience at the ev
 ent: \n\n  \n🥂 Food and drinks will be flowing throughout the event. Ge
 t snacking and network with amazing fellow partners. \n\n 🎸 Get ready t
 o groove on mind-numbing live music. \n\n 🎉 Don't miss your chance to w
 in traditional Indian goodies with fun games set up just for you. \n\n 
 🙌\n Connect with some of the amazing Shopify Staff/ Team and try to get
  insider information when they are drunk. \n\n 🗣 Have more interesting 
 questions? Join our panel discussion and embrace the solutions flowing. \n
 \n 🤝 Last but not least\, the event is all about networking. Wear that 
 beautiful smile\, connect with people\, and find new ways to level up your
  e-commerce adventure. \n\n \n\n About the host: \n\n  \n\n StarApps a.k.a
 . Variant King \n\n Over the last 5 years\, StarApps has created top solut
 ions for anything related to product variants on Shopify. Swatch King is o
 ne of the top 50 apps on Shopify. Variant Image Automator and Variant Desc
 riptions King are the best apps in their categories. \n\n \n\n  \n\n Wiser
  AI by Expert Village Media Technologies \n\n Wiser is one of the leading 
 personalized recommendation apps by Expert Village Media Technologies. Wis
 er empowers brands like Disney\, Star Wars\, Kappa USA\, History Channel S
 tore\, and 3000 more such brands worldwide and helps them in the growth of
  their store with AI-powered recommendations. Along with Wiser\, Expert Vi
 llage Media also owns 11 other public apps empowering more than 40k mercha
 nts worldwide. \n\n \n
LAST-MODIFIED:20221025T221525
LOCATION:Melbourne
ORGANIZER:mailto:shubham@starapps.studio
SUMMARY:Shopify Unite Grand Warmup (Unofficial) - Melbourne
URL;VALUE=URI:https://ti.to/starapps-studio/unofficial-shopify-unite-grand-
 warmup-melbourne
URL;VALUE=URI:https://ti.to/starapps-studio/unofficial-shopify-unite-grand-
 warmup-melbourne
END:VEVENT
END:VCALENDAR
