BEGIN:VCALENDAR
VERSION:2.0
PRODID:icalendar-ruby
CALSCALE:GREGORIAN
BEGIN:VEVENT
DTSTAMP:20260421T102147Z
UID:VJObXQ
DTSTART;VALUE=DATE:20221022
DTEND;VALUE=DATE:20221023
CLASS:PUBLIC
CREATED:20220629T194646
DESCRIPTION: Choral Music composed by Organists of York Minster for choirs 
 at Leeds Minster\, sung in homage to Francis Jackson \n\n Starts at 4.00 p
 m \n
LAST-MODIFIED:20220928T210910
LOCATION:Leeds Minster
ORGANIZER:mailto:chair@stpeters-singers.org.uk
SUMMARY:From Earth To Heaven
URL;VALUE=URI:https://ti.to/st-peters-singers-of-leeds/minster-music
URL;VALUE=URI:https://ti.to/st-peters-singers-of-leeds/minster-music
END:VEVENT
END:VCALENDAR
