BEGIN:VCALENDAR
VERSION:2.0
PRODID:icalendar-ruby
CALSCALE:GREGORIAN
BEGIN:VEVENT
DTSTAMP:20260422T090308Z
UID:FM2qmA
DTSTART;VALUE=DATE:20220611
DTEND;VALUE=DATE:20220612
CLASS:PUBLIC
CREATED:20220427T075043
DESCRIPTION: A musical celebration of the Queen's Jubilee \n\n Starts at 7.
 30pm \n
LAST-MODIFIED:20220629T194648
LOCATION:Leeds Minster
ORGANIZER:mailto:chair@stpeters-singers.org.uk
SUMMARY:I was glad
URL;VALUE=URI:https://ti.to/st-peters-singers-of-leeds/i-was-glad
URL;VALUE=URI:https://ti.to/st-peters-singers-of-leeds/i-was-glad
END:VEVENT
END:VCALENDAR
