BEGIN:VCALENDAR
VERSION:2.0
PRODID:icalendar-ruby
CALSCALE:GREGORIAN
BEGIN:VTIMEZONE
TZID:America/New_York
BEGIN:DAYLIGHT
DTSTART:20240310T030000
TZOFFSETFROM:-0500
TZOFFSETTO:-0400
RRULE:FREQ=YEARLY;BYDAY=2SU;BYMONTH=3
TZNAME:EDT
END:DAYLIGHT
BEGIN:STANDARD
DTSTART:20231105T010000
TZOFFSETFROM:-0400
TZOFFSETTO:-0500
RRULE:FREQ=YEARLY;BYDAY=1SU;BYMONTH=11
TZNAME:EST
END:STANDARD
END:VTIMEZONE
BEGIN:VEVENT
DTSTAMP:20260419T134555Z
UID:khG4yw
DTSTART;TZID=America/New_York:20240214T194500
DTEND;TZID=America/New_York:20240214T213000
CLASS:PUBLIC
CREATED:20240205T203827
DESCRIPTION: Join us for a night of fellowship with good food and good comp
 any! \n\n Dinner is at 7:45PM located at:\nSpice Thai\n1479 1st Ave.\, New
  York\, NY 10075\, United States \n\n NO WALK INS \n
LAST-MODIFIED:20240317T214854
LOCATION:St. Mary & St. Mark COC
ORGANIZER:mailto:hello@stmarystmarkmanhattan.com
SUMMARY:Valentine’s Fellowship Dinner
URL;VALUE=URI:https://ti.to/st-mary-st-mark/valentines-fellowship-dinner
URL;VALUE=URI:https://ti.to/st-mary-st-mark/valentines-fellowship-dinner
END:VEVENT
END:VCALENDAR
