BEGIN:VCALENDAR
VERSION:2.0
PRODID:icalendar-ruby
CALSCALE:GREGORIAN
BEGIN:VEVENT
DTSTAMP:20260423T004841Z
UID:b9EDXg
DTSTART;VALUE=DATE:20190427
DTEND;VALUE=DATE:20190428
CLASS:PUBLIC
CREATED:20181006T163603
DESCRIPTION: The St.Laurence O'Toole Pipe Band from Dublin bring their 2018
  Glasgow sell-out concert\, Turas Ceoil : Resume\, to the Armagh City Hote
 l\, April 27th \, 2019. \n\n For those unable to  attend the pre World's c
 oncert\, this is the perfect opportunity to hear the band in full flow. \n
 \n Tickets are sure to sell fast\, so get booking now ! \n\n Doors open at
  6.30 pm \n\n Show starts at 7.30pm \n\n Your ticket will be required for 
 entry to the venue\, so please print or save it to your phone. \n
LAST-MODIFIED:20190427T160929
LOCATION:Armagh City Hotel
ORGANIZER:mailto:turas_ceoil@slotpb.com
SUMMARY:Turas Ceoil : Resume - Live in Ireland
URL;VALUE=URI:https://ti.to/st-laurence-o-toole-pipe-band/turas-ceoil-resum
 e-live-in-ireland
URL;VALUE=URI:https://ti.to/st-laurence-o-toole-pipe-band/turas-ceoil-resum
 e-live-in-ireland
END:VEVENT
END:VCALENDAR
