BEGIN:VCALENDAR
VERSION:2.0
PRODID:icalendar-ruby
CALSCALE:GREGORIAN
BEGIN:VTIMEZONE
TZID:Europe/London
BEGIN:DAYLIGHT
DTSTART:20250330T020000
TZOFFSETFROM:+0000
TZOFFSETTO:+0100
RRULE:FREQ=YEARLY;BYDAY=-1SU;BYMONTH=3
TZNAME:BST
END:DAYLIGHT
BEGIN:STANDARD
DTSTART:20251026T010000
TZOFFSETFROM:+0100
TZOFFSETTO:+0000
RRULE:FREQ=YEARLY;BYDAY=-1SU;BYMONTH=10
TZNAME:GMT
END:STANDARD
END:VTIMEZONE
BEGIN:VEVENT
DTSTAMP:20260420T232435Z
UID:UoFhqQ
DTSTART;TZID=Europe/London:20250912T140000
DTEND;TZID=Europe/London:20250914T140000
CLASS:PUBLIC
CREATED:20250506T114840
DESCRIPTION: ***** \n\n Book you ticket now: \n\n \n Free Suspension Setups
 : have our experts set up the suspension of your bike \n Free Tech Session
 s: learn how your suspension works\, how to set it up and how to service y
 our suspension by yourself \n Expo and product demos \n \n\n   \n\n Friday
 \,12 September \n\n All day: meet the experts at the product expo \n\n | T
 ime | Activity | Duration |\n| ---- | -------- | -------- |\n| 14:00–17:
 00 | Free Suspension Setups (please book time slot below) | 15 min |\n| 16
 :30 | Tech Session: Suspension basics | 45 min |\n  \n\n Saturday\, 13 Sep
 tember \n\n All day: meet the experts at the product expo \n\n | Time | Ac
 tivity | Duration |\n| ---- | -------- | -------- |\n| 09:00–17:00 | Fre
 e Suspension Setups (please book time slot below) | 15 min |\n| 11:30 | Te
 ch Session: Suspension basics | 45 min |\n| 16:30 | Tech Session: How to s
 ervice your RockShox fork | 45 min |\n  \n\n Sunday\,14 September \n\n All
  day: meet the experts at the product expo \n\n | Time | Activity | Durati
 on |\n| ---- | -------- | -------- |\n| 09:00–13:00 | Free Suspension Se
 tups (please book time slot below) | 15 min |\n| 11:30 | Tech Session: How
  to service your RockShox fork | 45 min |\n \n \n  \n\n Important informat
 ion: \n\n \n Please choose your workshop or suspension set up below \n Ple
 ase be aware that there is only one booking per visit on the booking page 
 possible! If you do want to join more activities\, please do a separate bo
 oking \n Just meet us with your registration at the RockShox area \n \n\n 
  \nIf you do have questions\, please contact SRAM Marketing. \n\n   \n\n S
 ee you at BikePark Wales! \n
LAST-MODIFIED:20250913T090158
LOCATION:
ORGANIZER:mailto:SramMarketingEurope@sram.com
SUMMARY:RockShox Tuning Tour 2025 – BikePark Wales Session 2 (UK)
URL;VALUE=URI:https://ti.to/sram-rockshox/rockshox-tuning-tour-2025-bpw2-uk
URL;VALUE=URI:https://ti.to/sram-rockshox/rockshox-tuning-tour-2025-bpw2-uk
END:VEVENT
END:VCALENDAR
