BEGIN:VCALENDAR
VERSION:2.0
PRODID:icalendar-ruby
CALSCALE:GREGORIAN
BEGIN:VTIMEZONE
TZID:America/New_York
BEGIN:DAYLIGHT
DTSTART:20260308T030000
TZOFFSETFROM:-0500
TZOFFSETTO:-0400
RRULE:FREQ=YEARLY;BYDAY=2SU;BYMONTH=3
TZNAME:EDT
END:DAYLIGHT
BEGIN:STANDARD
DTSTART:20261101T010000
TZOFFSETFROM:-0400
TZOFFSETTO:-0500
RRULE:FREQ=YEARLY;BYDAY=1SU;BYMONTH=11
TZNAME:EST
END:STANDARD
END:VTIMEZONE
BEGIN:VEVENT
DTSTAMP:20260422T101835Z
UID:cdqw5g
DTSTART;VALUE=DATE:20260312
DTEND;VALUE=DATE:20260314
CLASS:PUBLIC
CREATED:20250722T105741
DESCRIPTION: We look forward to welcoming you to the SportsPro New York 202
 6! \n\n For any questions please get in touch at events@sportspromedia.com
  \n
LAST-MODIFIED:20260306T073525
LOCATION:New York
ORGANIZER:mailto:events@sportspromedia.com
SUMMARY:SportsPro New York 2026
URL;VALUE=URI:https://ti.to/sportspro/sportspro-newyork-2026
URL;VALUE=URI:https://ti.to/sportspro/sportspro-newyork-2026
END:VEVENT
END:VCALENDAR
