BEGIN:VCALENDAR
VERSION:2.0
PRODID:icalendar-ruby
CALSCALE:GREGORIAN
BEGIN:VTIMEZONE
TZID:America/New_York
BEGIN:DAYLIGHT
DTSTART:20240310T030000
TZOFFSETFROM:-0500
TZOFFSETTO:-0400
RRULE:FREQ=YEARLY;BYDAY=2SU;BYMONTH=3
TZNAME:EDT
END:DAYLIGHT
BEGIN:STANDARD
DTSTART:20241103T010000
TZOFFSETFROM:-0400
TZOFFSETTO:-0500
RRULE:FREQ=YEARLY;BYDAY=1SU;BYMONTH=11
TZNAME:EST
END:STANDARD
END:VTIMEZONE
BEGIN:VEVENT
DTSTAMP:20260423T163418Z
UID:dw6lZw
DTSTART;VALUE=DATE:20240807
DTEND;VALUE=DATE:20240810
CLASS:PUBLIC
CREATED:20231214T152335
LAST-MODIFIED:20260202T173015
LOCATION:Paris\, France
ORGANIZER:mailto:guestservices@sponsorshipx.com
SUMMARY:SPX Paris 2024
URL;VALUE=URI:https://ti.to/sponsorshipx/paris-2024
URL;VALUE=URI:https://ti.to/sponsorshipx/paris-2024
END:VEVENT
END:VCALENDAR
