BEGIN:VCALENDAR
VERSION:2.0
PRODID:icalendar-ruby
CALSCALE:GREGORIAN
BEGIN:VEVENT
DTSTAMP:20260420T131935Z
UID:2aO3dA
DTSTART;VALUE=DATE:20211116
DTEND;VALUE=DATE:20211118
CLASS:PUBLIC
CREATED:20211028T135920
DESCRIPTION: You are officially invited to experience a trail bike that cha
 nges everything! \n\n The power to slay monster trails! \n\n Power up to t
 rail riding’s next level and rip the biggest trails like never before. T
 he Kenevo Super Light is a featherweight e-MTB that redefines big mountain
  performance with a one-of-a-kind combination of light weight\, responsive
 ness\, and capability. Ultra-responsive handling and big mountain capabili
 ty amplified by the benefits of our 240-watt Turbo Super Light system enab
 les you to flow up\, over\, and through the biggest trails in ways that we
 re previously impossible. \n\n Specialized will take you on a fully suppor
 ted guided ride in the heart of the Peak District on board the latest Kene
 vo SL Expert in your preferred size\, all you need to do is turn up and ri
 de! \n\n A nominal fee of £50 per ticket will secure your space. This fee
  will be refunded on the day of the event\, by way of a single use voucher
  code that is redeemable at Specialized.com on a range of accessories and 
 apparel. \n\n [youtube:47rgA48hnQA] \n
LAST-MODIFIED:20211113T170536
LOCATION:Ladybower Inn\, Peak District
ORGANIZER:mailto:turboexperience@specialized.com
SUMMARY:Specialized Turbo Kenevo SL Ride Experience - Ladybower\, Peak Dist
 rict
URL;VALUE=URI:https://ti.to/specialized-uk/turbo-ksl-ride-experience-ladybo
 wer
URL;VALUE=URI:https://ti.to/specialized-uk/turbo-ksl-ride-experience-ladybo
 wer
END:VEVENT
END:VCALENDAR
