BEGIN:VCALENDAR
VERSION:2.0
PRODID:icalendar-ruby
CALSCALE:GREGORIAN
BEGIN:VEVENT
DTSTAMP:20260421T141059Z
UID:6RQATQ
DTSTART;VALUE=DATE:20220624
DTEND;VALUE=DATE:20220626
CLASS:PUBLIC
CREATED:20220518T101914
DESCRIPTION: June 24th &amp\; 25th\, 2022 \n\n Specialized Bicycles in part
 nership with Evolution Bikes are hosting a FREE e-bike experience over two
  days at Gwynedd Council offices in Caernarfon. Register for a 30 minute t
 est ride on our range of capable\, efficient and exceptionally comfortable
  electric bikes\, designed to take on everything from daily commutes to fa
 st workouts and longer-than-planned adventures. With two motor systems and
  three frame shapes to choose from\, we have a model to suit every person.
  \n\n Please contact us via our booking page if you have any questions. \n
 \n [youtube:mg6-I-sY-f8] \n\n Please ensure you bring the following with y
 ou. \n\n \n Two forms of ID. One must be photo ID such as Passport/Drivers
  Licence and the other a Credit/Debit Card. \n Helmet. Should you not own 
 one then we will have loan helmets available in various sizes. \n \n\n We 
 have a test bike to suit everyone\, from daily commutes to fast workouts a
 nd longer-than-planned adventures.  \n\n Our SL models offer as Much as 2x
  You. \n\n Range up to 90 mi/120 km. \nOverall bike weight of 14.9kg's \n\
 n Vado SL \n\n  \n\n Vado SL Step Through \n\n  \n\n Como SL \n\n  \n\n Ou
 r Full Power models offers as Much as 4x You. Range up to 90 mi/120 km. Ov
 erall bike weight of 24kg's \n\n Vado \n\n  \n\n Vado Step Through \n\n  \
 n\n Como \n\n  \n\n MISSION CONTROL APP. \n\n To get the most from your te
 st ride experience\, download the Specialized Mission Control App. Pairing
  your smart  phone to  the test bike enables you to further enhance your r
 ide experience by customising your Turbo to your personal needs. \n\n Most
  importantly\, it allows you to customize motor characteristics\, control 
 range\, diagnose the system\, record rides and see real-time ride data \n\
 n  \n\n SMART CONTROL \n\n Adjust the motor and battery output based on ho
 w far or how long you want to ride. \n\n INFINITE TUNING \n\n Customise yo
 ur motor characteristics with Support\, Peak Power\, and more tunable feat
 ures. \n\n CUSTOM PRESETS \n\n Create\, name\, and customise settings\, to
  make starting a ride quick and simple. \n\n \n \n
LAST-MODIFIED:20220531T072136
LOCATION:Caernarfon 
ORGANIZER:mailto:adam.wight@specialized.com
SUMMARY:Specialized e-Bike Ride Experience - Caernarfon
URL;VALUE=URI:https://ti.to/specialized-uk/gwyneddcouncil-caernarfon
URL;VALUE=URI:https://ti.to/specialized-uk/gwyneddcouncil-caernarfon
END:VEVENT
END:VCALENDAR
