BEGIN:VCALENDAR
VERSION:2.0
PRODID:icalendar-ruby
CALSCALE:GREGORIAN
BEGIN:VEVENT
DTSTAMP:20260424T070249Z
UID:pBFbug
DTSTART;VALUE=DATE:20160626
DTEND;VALUE=DATE:20160627
CLASS:PUBLIC
CREATED:20160526T141338
DESCRIPTION: Come join Bike Barn at the West University location Sunday Jun
 e 26\, 12PM-5PM.   \n\n This will include all of the latest mountain bikes
  from Specialized including the 2016 Stumpjumper\, Camber\, and Fuse as we
 ll as the all new women's Rhyme trail bikes.  Additionally\, we will have 
 some of the highlights from our 2016 Road bike line-up including the Tarma
 c\, Amira\, Roubaix and Diverge\, Venge ViAS.  Bikes will be available on 
 a first come\, first served basis\, so be sure to check the list of bikes 
 below to see which specific sizes and models we'll have. \n\n Fuse Pro 6Fa
 ttie: S\, L\nS-Works Camber 29 S\, M\nS-Works Camber 650b L\, XL\nS-Works 
 Stumpjumper FSR 650b: M\, L\nS-Works Stumpjumper FSR 29: M\, L\nRhyme FSR 
 Expert 6Fattie: S\, M\nS-Works Amira 44\, 48\, 51\, 54\, 56\nTarmac Pro Di
 sc Race UDi2: 54\, 56\nRoubaix Pro Disc Race UDi2: 52\, 54\, 56\, 58\nDive
 rge Carbon Expert X1: 54\, 56\, 58\, 61 \nVenge Pro ViAS 49\,52\,54\,56\,5
 8\n \n\n As with all demos\, please plan to bring all of your usual riding
  gear.  This includes helmets\, shoes\, pedals\, water  bottles/hydration 
 packs\, flat repair kit\, gloves\, etc.  Riders of all ages are welcomed t
 o join\, but those under the age of 18 will need a parent or guardian pres
 ent to sign a waiver. All riders will need to bring a credit card/ photo I
 D to participate in the Demo.  We will do our best to get everyone on the 
 bike of their choosing quickly\, but please keep in mind that we may not h
 ave the bike that you are looking for available right away. Demo rides are
  limited to 1 hour .   \n\n FAQs: \n\n Are there ID requirements or an age
  limit to enter the event? \n\n Riders of all ages are welcome to join\, b
 ut those under age 18 must have a parent/guardian present to sign on a wai
 ver on their behalf.  All riders will need to bring a photo ID and credit 
 card to demo: This is non-negotiable. \n\n What should I bring to the even
 t? \n\n Please bring all of your usual riding gear to the event.  This inc
 ludes a helmet\, shoes\, pedals\, flat repair kit\, water bottle\, hydrati
 on pack\, etc.  We will have a limited number of spare helmets\, pedals\, 
 and tubes\, but these are meant as a back-up. \n\n Where can I contact the
  organizer with any questions? \n\n Please email any questions that you ma
 y have to bart.anatra@specialized.com \n
LAST-MODIFIED:20160626T143108
LOCATION:Houston\, TX
ORGANIZER:mailto:bart.anatra@specialized.com
SUMMARY:Specialized Test The Best with Bike Barn West University
URL;VALUE=URI:https://ti.to/specialized-texas/bbuniversity
URL;VALUE=URI:https://ti.to/specialized-texas/bbuniversity
END:VEVENT
END:VCALENDAR
