BEGIN:VCALENDAR
VERSION:2.0
PRODID:icalendar-ruby
CALSCALE:GREGORIAN
BEGIN:VTIMEZONE
TZID:Europe/Madrid
BEGIN:DAYLIGHT
DTSTART:20240331T030000
TZOFFSETFROM:+0100
TZOFFSETTO:+0200
RRULE:FREQ=YEARLY;BYDAY=-1SU;BYMONTH=3
TZNAME:CEST
END:DAYLIGHT
BEGIN:STANDARD
DTSTART:20241027T020000
TZOFFSETFROM:+0200
TZOFFSETTO:+0100
RRULE:FREQ=YEARLY;BYDAY=-1SU;BYMONTH=10
TZNAME:CET
END:STANDARD
END:VTIMEZONE
BEGIN:VEVENT
DTSTAMP:20260425T103339Z
UID:uR8GEA
DTSTART;VALUE=DATE:20240605
DTEND;VALUE=DATE:20240608
CLASS:PUBLIC
CREATED:20230605T185616
DESCRIPTION: South Summit\, one of the most relevant global innovation even
 ts\, will be back on June 2024 in Madrid\, Spain. If you enjoyed #SouthSum
 mit23\, you can't miss it! \n\n Access the referent networking platform th
 at gathers the key players of the entrepreneurial world: the greatest star
 tups and top talent\, the best investors\, and the world’s largest corpo
 rations that are looking for innovation. \n
LAST-MODIFIED:20251212T094835
LOCATION:Madrid\, Spain
ORGANIZER:mailto:info@spain-startup.com
SUMMARY:South Summit 2024
URL;VALUE=URI:https://ti.to/southsummit/2024
URL;VALUE=URI:https://ti.to/southsummit/2024
END:VEVENT
END:VCALENDAR
