BEGIN:VCALENDAR
VERSION:2.0
PRODID:icalendar-ruby
CALSCALE:GREGORIAN
BEGIN:VTIMEZONE
TZID:Europe/Madrid
BEGIN:DAYLIGHT
DTSTART:20230326T030000
TZOFFSETFROM:+0100
TZOFFSETTO:+0200
RRULE:FREQ=YEARLY;BYDAY=-1SU;BYMONTH=3
TZNAME:CEST
END:DAYLIGHT
BEGIN:STANDARD
DTSTART:20231029T020000
TZOFFSETFROM:+0200
TZOFFSETTO:+0100
RRULE:FREQ=YEARLY;BYDAY=-1SU;BYMONTH=10
TZNAME:CET
END:STANDARD
END:VTIMEZONE
BEGIN:VEVENT
DTSTAMP:20260423T080635Z
UID:4fgzmQ
DTSTART;VALUE=DATE:20230607
DTEND;VALUE=DATE:20230610
CLASS:PUBLIC
CREATED:20220627T112119
DESCRIPTION: South Summit\, one of the most relevant global innovation even
 ts\, is back. South Summit 2023 will come with huge surprises. You can't m
 iss it! \n\n Access the referent networking platform that gathers the key 
 players of the entrepreneurial world: the greatest startups and top talent
 \, the best investors\, and the world’s largest corporations that are lo
 oking for innovation. \n
LAST-MODIFIED:20251212T094835
LOCATION:Madrid\, Spain
ORGANIZER:mailto:info@spain-startup.com
SUMMARY:South Summit 2023
URL;VALUE=URI:https://ti.to/southsummit/2023
URL;VALUE=URI:https://ti.to/southsummit/2023
END:VEVENT
END:VCALENDAR
