BEGIN:VCALENDAR
VERSION:2.0
PRODID:icalendar-ruby
CALSCALE:GREGORIAN
BEGIN:VEVENT
DTSTAMP:20260424T013912Z
UID:Vc7i5A
DTSTART;VALUE=DATE:20190915
DTEND;VALUE=DATE:20190916
CLASS:PUBLIC
CREATED:20190305T183915
LAST-MODIFIED:20190928T203912
LOCATION:Claregalway Castle\, Claregalway\, County Galway\, Ireland
ORGANIZER:mailto:info@soulspace.ie
SUMMARY:Soul Space - The Experience 2019
URL;VALUE=URI:https://ti.to/soul-space-the-experience/soul-space-the-experi
 ence-2019
URL;VALUE=URI:https://ti.to/soul-space-the-experience/soul-space-the-experi
 ence-2019
END:VEVENT
END:VCALENDAR
