BEGIN:VCALENDAR
VERSION:2.0
PRODID:icalendar-ruby
CALSCALE:GREGORIAN
BEGIN:VTIMEZONE
TZID:Europe/Amsterdam
BEGIN:DAYLIGHT
DTSTART:20250330T030000
TZOFFSETFROM:+0100
TZOFFSETTO:+0200
RRULE:FREQ=YEARLY;BYDAY=-1SU;BYMONTH=3
TZNAME:CEST
END:DAYLIGHT
BEGIN:STANDARD
DTSTART:20241027T020000
TZOFFSETFROM:+0200
TZOFFSETTO:+0100
RRULE:FREQ=YEARLY;BYDAY=-1SU;BYMONTH=10
TZNAME:CET
END:STANDARD
END:VTIMEZONE
BEGIN:VEVENT
DTSTAMP:20260425T195109Z
UID:6iGi6A
DTSTART;VALUE=DATE:20241028
DTEND;VALUE=DATE:20241101
CLASS:PUBLIC
CREATED:20230927T131509
DESCRIPTION: Meet SmashingConf Antwerp — our conference on design &amp\; 
 UX for designers and UI engineers who love the web. On design systems\, us
 ability\, interface design and accessibility. A shiny gem in the heart of 
 historic Antwerp! \n\n Our conference in Antwerp has 2 days of talks (sing
 le track)\, and 2 workshop days\, with plenty of friendly side events befo
 re and after the event. All of them have one thing in common: wonderful sp
 eakers and practical takeaways! \n
LAST-MODIFIED:20260303T192930
LOCATION:Antwerp\, Belgium
ORGANIZER:mailto:hello@smashingconf.com
SUMMARY:SmashingConf Antwerp 2024
URL;VALUE=URI:https://ti.to/smashingmagazine/smashingconf-antwerp-2024
URL;VALUE=URI:https://ti.to/smashingmagazine/smashingconf-antwerp-2024
END:VEVENT
END:VCALENDAR
