BEGIN:VCALENDAR
VERSION:2.0
PRODID:icalendar-ruby
CALSCALE:GREGORIAN
BEGIN:VTIMEZONE
TZID:Europe/Berlin
BEGIN:DAYLIGHT
DTSTART:20260329T030000
TZOFFSETFROM:+0100
TZOFFSETTO:+0200
RRULE:FREQ=YEARLY;BYDAY=-1SU;BYMONTH=3
TZNAME:CEST
END:DAYLIGHT
BEGIN:STANDARD
DTSTART:20261025T020000
TZOFFSETFROM:+0200
TZOFFSETTO:+0100
RRULE:FREQ=YEARLY;BYDAY=-1SU;BYMONTH=10
TZNAME:CET
END:STANDARD
END:VTIMEZONE
BEGIN:VEVENT
DTSTAMP:20260424T162018Z
UID:bvlF3w
DTSTART;TZID=Europe/Berlin:20260413T090000
DTEND;TZID=Europe/Berlin:20260416T173000
CLASS:PUBLIC
CREATED:20250401T113021
DESCRIPTION: We can’t wait already! The SmashingConf Amsterdam— in our 
 lovely city in The Netherlands on April 13–16. With one track\, two days
 \, 12 speakers and 550 attendees\, expect actionable insights for your wor
 k. \n\n We pour our heart into creating friendly\, inclusive events that a
 re focused on real-world problems and solutions. Our focus is on front-end
  and UX but we cover everything web\, be it UI design or design systems. T
 he Amsterdam edition is of course no exception. \n
LAST-MODIFIED:20260415T102903
LOCATION:Amsterdam\, Netherlands
ORGANIZER:mailto:hello@smashingconf.com
SUMMARY:SmashingConf Amsterdam
URL;VALUE=URI:https://ti.to/smashingmagazine/smashingconf-amsterdam-2026
URL;VALUE=URI:https://ti.to/smashingmagazine/smashingconf-amsterdam-2026
END:VEVENT
BEGIN:VEVENT
DTSTAMP:20260424T162018Z
UID:bvlF3w1083945
DTSTART;TZID=Europe/Berlin:20260415T183000
DTEND;TZID=Europe/Berlin:20260415T203000
CLASS:PUBLIC
CREATED:20250401T113026
DESCRIPTION:We'll be exploring the neighborhood and with your professional 
 guide you'll find some amazing photo spots. Leaving from the venue directl
 y after the closing! \nWe are meeting in front of the venue.
LAST-MODIFIED:20260108T104913
LOCATION:Smashing Sloep\, Mauritskade 1E\, 1091 EW Amsterdam\, Netherlands
ORGANIZER:mailto:hello@smashingconf.com
SUMMARY:[SmashingConf Amsterdam] Smashing Sloep
URL;VALUE=URI:https://ti.to/smashingmagazine/smashingconf-amsterdam-2026
X-ALT-DESC;FMTTYPE=text/html:We'll be exploring the neighborhood and with y
 our professional guide you'll find some amazing photo spots. Leaving from 
 the venue directly after the closing! \nWe are meeting in front of the ven
 ue.
URL;VALUE=URI:https://ti.to/smashingmagazine/smashingconf-amsterdam-2026
END:VEVENT
END:VCALENDAR
