BEGIN:VCALENDAR
VERSION:2.0
PRODID:icalendar-ruby
CALSCALE:GREGORIAN
BEGIN:VEVENT
DTSTAMP:20260419T162333Z
UID:kzJsqw
DTSTART;VALUE=DATE:20200528
DTEND;VALUE=DATE:20200529
CLASS:PUBLIC
CREATED:20200430T085112
DESCRIPTION: Please join this webinar at 11.00am. \n\n This webinar will be
  hosted by Oliver Bridge of Grant Thornton\, STC founding member and finan
 cial and business advisory service. \n\n Do you need support and practical
  advice on how to make plans for overcoming the impact of the current COVI
 D-19 crisis on your business?  Oliver will be looking at you can approach 
 developing your business continuity plans in order to manage and move beyo
 nd the current uncertain climate. With a focus on operations\, he will hig
 hlight practical and financial ways to assess\, protect and restore your o
 perational activities. \n\n Please join us for a session that will bring y
 ou up-to-date with the latest ideas and information\, providing you with v
 aluable advice on how to plan your next steps. \n
LAST-MODIFIED:20240109T221623
LOCATION:Zoom online
ORGANIZER:mailto:jackie@silverstonetechnologycluster.com
SUMMARY:STC Webinar #9 - How to Master Business Continuity Planning
URL;VALUE=URI:https://ti.to/silverstone-technology-cluster/webinar9
URL;VALUE=URI:https://ti.to/silverstone-technology-cluster/webinar9
END:VEVENT
END:VCALENDAR
