BEGIN:VCALENDAR
VERSION:2.0
PRODID:icalendar-ruby
CALSCALE:GREGORIAN
BEGIN:VEVENT
DTSTAMP:20260421T102105Z
UID:lO4Esw
DTSTART;VALUE=DATE:20200521
DTEND;VALUE=DATE:20200522
CLASS:PUBLIC
CREATED:20200430T084256
DESCRIPTION: Please join this webinar at 11.00am. \n\n This webinar will be
  hosted by Nigel Corbett of STC member\, CED Accountancy Services\, who wi
 ll look at how you can manage further tax claims back from the government 
 in order to help maximise your cashflow. He will be providing advice and i
 nformation on research and development claims\, patent box and capital all
 owances. \n\n Nigel will take you through the claims and demystify what th
 ey are and explain that they relate to such things as processes and the pr
 ojects do not have to succeed. In the present time\, companies need all th
 e cash that they can get and this is a way of helping to achieve this. \n\
 n Following an informative presentation\, there will be an interactive Q&a
 mp\;A session where you can ask Nigel for specific advice.\nPlease join us
  for a session that will bring you up-to-date with the latest ideas and in
 formation\, providing you with valuable advice on next steps. \n
LAST-MODIFIED:20240109T221623
LOCATION:Zoom online
ORGANIZER:mailto:jackie@silverstonetechnologycluster.com
SUMMARY:STC Webinar #8 - What you can do to Maximise your Cashflow
URL;VALUE=URI:https://ti.to/silverstone-technology-cluster/webinar8
URL;VALUE=URI:https://ti.to/silverstone-technology-cluster/webinar8
END:VEVENT
END:VCALENDAR
