BEGIN:VCALENDAR
VERSION:2.0
PRODID:icalendar-ruby
CALSCALE:GREGORIAN
BEGIN:VTIMEZONE
TZID:America/Los_Angeles
BEGIN:DAYLIGHT
DTSTART:20170312T030000
TZOFFSETFROM:-0800
TZOFFSETTO:-0700
RRULE:FREQ=YEARLY;BYDAY=2SU;BYMONTH=3
TZNAME:PDT
END:DAYLIGHT
BEGIN:STANDARD
DTSTART:20171105T010000
TZOFFSETFROM:-0700
TZOFFSETTO:-0800
RRULE:FREQ=YEARLY;BYDAY=1SU;BYMONTH=11
TZNAME:PST
END:STANDARD
END:VTIMEZONE
BEGIN:VEVENT
DTSTAMP:20260419T174819Z
UID:0DD3ZA
DTSTART;VALUE=DATE:20170524
DTEND;VALUE=DATE:20170526
CLASS:PUBLIC
CREATED:20161010T141855
DESCRIPTION: SOLD OUT! \n
LAST-MODIFIED:20181015T113150
LOCATION:Pier 27\, San Francisco\, United States
ORGANIZER:mailto:signal2017@registration.eeginc.com
SUMMARY:SIGNAL 2017 SF
URL;VALUE=URI:https://ti.to/signal/signal-2017-sf
URL;VALUE=URI:https://ti.to/signal/signal-2017-sf
END:VEVENT
END:VCALENDAR
