BEGIN:VCALENDAR
VERSION:2.0
PRODID:icalendar-ruby
CALSCALE:GREGORIAN
BEGIN:VEVENT
DTSTAMP:20260419T161142Z
UID:1WfFOQ
DTSTART:20251023T090000
DTEND:20251023T170000
CLASS:PUBLIC
CREATED:20250709T101209
DESCRIPTION: Event Overview: Regeneration of Coastal Communities to support
  tourism &amp\; the important role STR contributes to this goal.\nAim of t
 he event - To bring heads of tourism organisations together with MPs\, Cou
 ncils and Tourism Representatives to connect the dots and start working to
 gether. \n
LAST-MODIFIED:20251007T183957
LOCATION:The Pleasure Beach - Paradise Room
ORGANIZER:mailto:temboimpact@gmail.com
SUMMARY:Blackpool Coastal Communities STAA
URL;VALUE=URI:https://ti.to/short-stay-summit-2023/blackpool-coastal-commun
 ities-staa
URL;VALUE=URI:https://ti.to/short-stay-summit-2023/blackpool-coastal-commun
 ities-staa
END:VEVENT
END:VCALENDAR
