BEGIN:VCALENDAR
VERSION:2.0
PRODID:icalendar-ruby
CALSCALE:GREGORIAN
BEGIN:VEVENT
DTSTAMP:20260425T011628Z
UID:ovCbqA
DTSTART;VALUE=DATE:20170823
DTEND;VALUE=DATE:20170824
CLASS:PUBLIC
CREATED:20170802T161642
DESCRIPTION: Date and time: Wednesday\, August 23rd from 6 PM to 8 PM \n\n 
 Location: Shopify HQ SF: 33 New Montgomery\, Suite 750. Check in in the lo
 bby before coming up to the 7th floor.  \n\n *NB: You must arrive by 6:35 
 PM - elevators are closed to the public after this time. * \n\n If you're 
 Bay Area based and interested in building ecommerce functionalities\, and/
 or you’re actively developing ways to improve Shopify\, join us on Augus
 t 23rd for the Shopify App Developers Meetup in SF! Michael Perry\, founde
 r of Kit\, will be talking about some of the challenges around scaling on 
 the road to becoming one of the most popular apps in the Shopify app store
 . \n\n Would you like to give a 5 minute talk? If you have a cool hack to 
 share\, or you just want to share some of your commerce ideas with the aud
 ience\, please submit your talk here! Please no product demos or sales pit
 ches.  \n\n Attendees of our event agree to abide by our Code of Conduct. 
 The Shopify App Developer community is dedicated to providing a harassment
 -free experience for everyone\, regardless of gender\, gender identity and
  expression\, sexual orientation\, disability\, physical appearance\, body
  size\, race\, or religion. We do not tolerate harassment of participants 
 in any form. \n\n If you are being harassed by a member of the Shopify App
  Developer community\, notice that someone else is being harassed\, or hav
 e any other concerns\, please alert the organizer immediately or email app
 devcommunity@shopify.com.  \n\n We’ll have a variety of alcoholic and no
 n alcoholic beverage options\, as well as vegan and allergy-free snack opt
 ions. Our office is wheelchair accessible. \n
LAST-MODIFIED:20180216T205242
LOCATION:San Francisco\, CA
ORGANIZER:mailto:sj@shopify.com
SUMMARY:Shopify App Developers SF: Meetup #2 Feat. Kit
URL;VALUE=URI:https://ti.to/shopify-app-developers/shopify-app-developers-s
 f-meetup-2-feat-kit
URL;VALUE=URI:https://ti.to/shopify-app-developers/shopify-app-developers-s
 f-meetup-2-feat-kit
END:VEVENT
END:VCALENDAR
