BEGIN:VCALENDAR
VERSION:2.0
PRODID:icalendar-ruby
CALSCALE:GREGORIAN
BEGIN:VEVENT
DTSTAMP:20260422T003557Z
UID:JJGotw
DTSTART:20250217T120000
DTEND:20250217T210000
CLASS:PUBLIC
CREATED:20241227T212510
DESCRIPTION: Join us on Monday February 17th of the Family Day Long Weekend
 ! Bring your families and friends! \n\n Tickets are $3 and will get you $3
  off your first drink at each brewery\, cidery\, and distillery you visit!
  The more you visit\, the more you save! \n\n Each establishment will be o
 pen from 12pm to 9pm (Copper Penny is open 1pm-8pm) \n
LAST-MODIFIED:20250215T063330
LOCATION:Shipyards Brewery District\, North Vancouver\, BC
ORGANIZER:mailto:noreply-calendar@tito.io
SUMMARY:Shipyards Brewery District Family Day Crawl 2025
URL;VALUE=URI:https://ti.to/shipyards-brewery-district/familydaybrewerycraw
 l2025
URL;VALUE=URI:https://ti.to/shipyards-brewery-district/familydaybrewerycraw
 l2025
END:VEVENT
END:VCALENDAR
