BEGIN:VCALENDAR
VERSION:2.0
PRODID:icalendar-ruby
CALSCALE:GREGORIAN
BEGIN:VEVENT
DTSTAMP:20260424T233029Z
UID:9qn9Vg
DTSTART;VALUE=DATE:20201207
DTEND;VALUE=DATE:20201209
CLASS:PUBLIC
CREATED:20191116T112333
LAST-MODIFIED:20220920T092417
LOCATION:
ORGANIZER:mailto:i@shiftconf.co
SUMMARY:Shift Money 2020
URL;VALUE=URI:https://ti.to/shift-conference/shift-money-2020
URL;VALUE=URI:https://ti.to/shift-conference/shift-money-2020
END:VEVENT
END:VCALENDAR
