BEGIN:VCALENDAR
VERSION:2.0
PRODID:icalendar-ruby
CALSCALE:GREGORIAN
BEGIN:VEVENT
DTSTAMP:20260423T130726Z
UID:aDC4dA
DTSTART:20241009T180000
DTEND:20241010T210000
CLASS:PUBLIC
CREATED:20240625T132553
LAST-MODIFIED:20251224T192406
LOCATION:45 Fremont St
ORGANIZER:mailto:info@pybay.com
SUMMARY:Oct 9th SF Python @Sentry
URL;VALUE=URI:https://ti.to/sfpython/oct-9th-sf-python-sentry
URL;VALUE=URI:https://ti.to/sfpython/oct-9th-sf-python-sentry
END:VEVENT
BEGIN:VEVENT
DTSTAMP:20260423T130726Z
UID:aDC4dA1075757
DTSTART:20241009T180000
DTEND:20241009T210000
CLASS:PUBLIC
CREATED:20241004T180038
LAST-MODIFIED:20241004T180038
LOCATION:45 Fremont Street\, 45 Fremont Street\, 45 Fremont St\, San Franci
 sco\, CA 94105\, USA
ORGANIZER:mailto:info@pybay.com
SUMMARY:[Oct 9th SF Python @Sentry] Talks
URL;VALUE=URI:https://ti.to/sfpython/oct-9th-sf-python-sentry
URL;VALUE=URI:https://ti.to/sfpython/oct-9th-sf-python-sentry
END:VEVENT
END:VCALENDAR
