BEGIN:VCALENDAR
VERSION:2.0
PRODID:icalendar-ruby
CALSCALE:GREGORIAN
BEGIN:VTIMEZONE
TZID:America/Los_Angeles
BEGIN:DAYLIGHT
DTSTART:20250309T030000
TZOFFSETFROM:-0800
TZOFFSETTO:-0700
RRULE:FREQ=YEARLY;BYDAY=2SU;BYMONTH=3
TZNAME:PDT
END:DAYLIGHT
BEGIN:STANDARD
DTSTART:20251102T010000
TZOFFSETFROM:-0700
TZOFFSETTO:-0800
RRULE:FREQ=YEARLY;BYDAY=1SU;BYMONTH=11
TZNAME:PST
END:STANDARD
END:VTIMEZONE
BEGIN:VEVENT
DTSTAMP:20260422T030250Z
UID:HoHiMg
DTSTART;TZID=America/Los_Angeles:20250514T183000
DTEND;TZID=America/Los_Angeles:20250514T203000
CLASS:PUBLIC
CREATED:20250312T163443
LAST-MODIFIED:20251224T112406
LOCATION:45 Fremont St
ORGANIZER:mailto:info@pybay.com
SUMMARY:May 14th SF Python @Sentry
URL;VALUE=URI:https://ti.to/sfpython/may-14th-sf-python-sentry
URL;VALUE=URI:https://ti.to/sfpython/may-14th-sf-python-sentry
END:VEVENT
BEGIN:VEVENT
DTSTAMP:20260422T030250Z
UID:HoHiMg1083232
DTSTART;TZID=America/Los_Angeles:20250514T180000
DTEND;TZID=America/Los_Angeles:20250514T210000
CLASS:PUBLIC
CREATED:20250312T163444
LAST-MODIFIED:20250312T164429
LOCATION:45 Fremont Street\, 45 Fremont Street\, 45 Fremont St\, San Franci
 sco\, CA 94105\, USA
ORGANIZER:mailto:info@pybay.com
SUMMARY:[May 14th SF Python @Sentry] Talks
URL;VALUE=URI:https://ti.to/sfpython/may-14th-sf-python-sentry
URL;VALUE=URI:https://ti.to/sfpython/may-14th-sf-python-sentry
END:VEVENT
END:VCALENDAR
