BEGIN:VCALENDAR
VERSION:2.0
PRODID:icalendar-ruby
CALSCALE:GREGORIAN
BEGIN:VEVENT
DTSTAMP:20260422T044045Z
UID:RCjm5Q
DTSTART:20240710T183000
DTEND:20240710T210000
CLASS:PUBLIC
CREATED:20240625T132815
DESCRIPTION: AGENDA\n6:30p Reconnect with friends!\n7:00p Opening remarks\,
  sponsors acknowledgement\n7:10p Scheduled talks and Q&amp\;A + networking
  break\n8:30p Wrap up last talk\, more networking \n\n THIS EVENT IS PRODU
 CED BY\nSF Python\, a volunteers-run organization aiming to foster the Pyt
 hon Community in the Bay Area \n
LAST-MODIFIED:20251224T192406
LOCATION:100 California Street\, San Francisco
ORGANIZER:mailto:info@pybay.com
SUMMARY:July 10th SF Python @ Airbyte
URL;VALUE=URI:https://ti.to/sfpython/july-10th-sf-python-airbyte
URL;VALUE=URI:https://ti.to/sfpython/july-10th-sf-python-airbyte
END:VEVENT
BEGIN:VEVENT
DTSTAMP:20260422T044045Z
UID:RCjm5Q1072657
DTSTART:20240710T180000
DTEND:20240710T210000
CLASS:PUBLIC
CREATED:20240628T174809
LAST-MODIFIED:20240628T174809
ORGANIZER:mailto:info@pybay.com
SUMMARY:[July 10th SF Python @ Airbyte] July 10 Airbyte
URL;VALUE=URI:https://ti.to/sfpython/july-10th-sf-python-airbyte
URL;VALUE=URI:https://ti.to/sfpython/july-10th-sf-python-airbyte
END:VEVENT
END:VCALENDAR
