BEGIN:VCALENDAR
VERSION:2.0
PRODID:icalendar-ruby
CALSCALE:GREGORIAN
BEGIN:VTIMEZONE
TZID:America/Los_Angeles
BEGIN:DAYLIGHT
DTSTART:20180311T030000
TZOFFSETFROM:-0800
TZOFFSETTO:-0700
RRULE:FREQ=YEARLY;BYDAY=2SU;BYMONTH=3
TZNAME:PDT
END:DAYLIGHT
BEGIN:STANDARD
DTSTART:20181104T010000
TZOFFSETFROM:-0700
TZOFFSETTO:-0800
RRULE:FREQ=YEARLY;BYDAY=1SU;BYMONTH=11
TZNAME:PST
END:STANDARD
END:VTIMEZONE
BEGIN:VEVENT
DTSTAMP:20260421T203600Z
UID:cnWKAg
DTSTART;VALUE=DATE:20180327
DTEND;VALUE=DATE:20180328
CLASS:PUBLIC
CREATED:20180309T185924
DESCRIPTION: Want to get to know the hottest startups in SF Bay Area and ho
 w they use Python to power their systems? Join us on March 27 for a specia
 l Startup Row event. \n\n In the past few months\, the amazing team from P
 yCon’s Startup Row has been hard at work to narrow down 300+ Python-powe
 red startups in the Bay Area to a few that's particularly exciting. And no
 w\, we need your vote\, and the judges'\, to gift a deserving start-up a f
 ree booth to showcase their company at PyCon Ohio 2018. \n\n Pitching star
 t-ups include (in no particular order): \n\n \n SandCage: Cloud technology
  for image and file compression\, hosting &amp\; delivery \n PlusPlus: An 
 enterprise learning platform to help you run an effective corporate univer
 sity \n Blameless: A new SRE analytics platform helping companies maintain
  uptime and track incidents \n Datmo: an end-to-end pipeline for building\
 , tracking\, deploying\, and monitoring quantitative models in production 
 \n Slide: Seamless peer-to-peer payments targeting the South African marke
 t \n \n\n Our friends Don Sheu and Jason Rowley who run the Startup Row ha
 ve invited Bebe Chueh\, Co-Founder of Atrium\, and Lisa Dusseault of Compa
 as on our judging panel. \n\n Agenda \n\n 6:15p - Check-in and mingle\, wi
 th pizza and beer provided by our generous sponsor Pubnub! \n\n 7:05p - We
 lcome and Announcements \n\n 7:10p - Startup Row pitches\, Q&amp\;A\, and 
 judging \n\n 8:25p - More mingling \n\n 9:00p - Doors close \n\n This even
 t is brought to you by \n\n SF Python  A volunteers run organization aimin
 g to foster the Python community in the Bay Area. Please consider making a
  donation. \n\n Startup Row Organizers \n\n Venue\, food\, and drinks via 
 the generosity of PubNub  \n\n PubNub enables the "always-on" online exper
 iences people are looking for by providing real-time infrastructure-as-a-s
 ervice\, with enterprise-grade security\, 99.999% SLA-backed reliability\,
  and global scalability to support the largest real-time deployments\, all
  via simple APIs and over 70 SDKs. Additionally\, the PubNub Data Stream N
 etwork offers value-added features for applications like chat/collaboratio
 n\, IoT device control\, and realtime updates to further accelerate your b
 uild and release times. With PubNub\, developers and businesses can add re
 al-time functionality without having to build or maintain the backend infr
 astructure\, so you can focus on innovation. \n
LAST-MODIFIED:20240728T211358
LOCATION:725 Folsom Street\, San Francisco\, CA 
ORGANIZER:mailto:grace@pybay.com
SUMMARY:Vote on Python-powered start-ups
URL;VALUE=URI:https://ti.to/sf-python/startup-row
URL;VALUE=URI:https://ti.to/sf-python/startup-row
END:VEVENT
BEGIN:VEVENT
DTSTAMP:20260421T203600Z
UID:cnWKAg1019853
DTSTART;TZID=America/Los_Angeles:20180327T181500
DTEND;TZID=America/Los_Angeles:20180327T210000
CLASS:PUBLIC
CREATED:20180309T185937
LAST-MODIFIED:20180309T193235
LOCATION:PubNub\, 725 Folsom Street\, San Francisco\, CA
ORGANIZER:mailto:grace@pybay.com
SUMMARY:[Vote on Python-powered start-ups] SF Python Meetup
URL;VALUE=URI:https://ti.to/sf-python/startup-row
URL;VALUE=URI:https://ti.to/sf-python/startup-row
END:VEVENT
END:VCALENDAR
