BEGIN:VCALENDAR
VERSION:2.0
PRODID:icalendar-ruby
CALSCALE:GREGORIAN
BEGIN:VTIMEZONE
TZID:America/Los_Angeles
BEGIN:DAYLIGHT
DTSTART:20180311T030000
TZOFFSETFROM:-0800
TZOFFSETTO:-0700
RRULE:FREQ=YEARLY;BYDAY=2SU;BYMONTH=3
TZNAME:PDT
END:DAYLIGHT
BEGIN:STANDARD
DTSTART:20181104T010000
TZOFFSETFROM:-0700
TZOFFSETTO:-0800
RRULE:FREQ=YEARLY;BYDAY=1SU;BYMONTH=11
TZNAME:PST
END:STANDARD
END:VTIMEZONE
BEGIN:VEVENT
DTSTAMP:20260425T024522Z
UID:m044MQ
DTSTART;VALUE=DATE:20180718
DTEND;VALUE=DATE:20180719
CLASS:PUBLIC
CREATED:20180716T094838
DESCRIPTION: SF Python is bringing its Project Night to AdRoll. It's going 
 to be an evening with about ~125 Python devs getting your questions answer
 ed\, sharing your knowledge\, hacking and taking tutorials. \n\n We are gr
 ateful our venue host Adroll will be providing food and drinks for this ev
 ent. \n\n If you'd like to be a mentor\, please reach out to Grace or Sime
 on. \n\n Who should attend? \n\n • New to Python and want to work with o
 ther Pythonistas \n\n • Experienced devs who want to hack on your work\,
  personal or open-source projects \n\n • Experienced devs who want to me
 ntor others \n\n • Anyone that's interested in our tutorial offerings \n
 \n The plan: \n\n 6:00p Begin check-in \n\n 6:50p Introductions: tell us a
 bout your project and/or the kind of help you seek \n\n 7:00p Make yoursel
 f comfortable and start hacking\, or attend one of the tutorials \n\n 7:30
 p Door Close \n\n 9:30p Wrap up / Hard Stop \n\n Tutorials offered: \n\n #
 1 Server-Side Rendering React Applications in a Python Environment by Bria
 n Weiser \n\n Abstract:\nThis tutorial will go over setting up server-side
  rendering of a React application while using a Python backend. \n\n Instr
 uctor Bio:\nBrian has worked for AdRoll since February on the Activations 
 team. \n\n Target audience: Intermediate level developers with a basic und
 erstanding of Python 3\, Node 6\, Pip 9 and React 16.  Please bring your l
 aptop with Python 3\, Node 6\, Pip 9 and React 16 installed. \n\n #2 Intro
 duction to GraphQL and how to do GraphQL queries via Python by Aasif Shabb
 ir~ about 45 mins \n\n Abstract: We'll go over GraphQL\, how to query data
  and how to use AdRoll's GraphQL Reporting APIs via Python. \n\n Instructo
 r Bio:Aasif Shabbir has been coming to the Bay Area Python meetup's for th
 e last 3.5 years. He got his feet wet with Python working on a Flask app f
 or a work project. He loves to teach and is always down to learn new thing
 s. \n\n Target audience:\nNew to Python \n\n Prereq: Have Python 2.7 insta
 lled. We'll provide test logins for using the AdRoll GraphQL reporting API
 s. \n\n CHECK-IN PROCESS \n\n • Doors open at 6:00pm. Please wait outsid
 e without blocking the building entrance. Security will check ID and stop 
 admitting guests at 7:30p.\n• Please park your bikes on the street. \n\n
  Hope to see you there! \n\n This event is produced by \n\n SF Python\, a 
 volunteers run organization aiming to foster the Python Community in the B
 ay Area. Please check out their flagship event\, PyBay2018\, 3rd Annual Re
 gional Python Conference in SF this August. \n\n Venue is through the gene
 rosity of Adroll\, their mission is to help big and small businesses turn 
 their customer data into high-performance marketing. \n
LAST-MODIFIED:20240728T211358
LOCATION:2300 Harrison St\, San Francisco\, CA
ORGANIZER:mailto:grace@pybay.com
SUMMARY:Project Night at Adroll
URL;VALUE=URI:https://ti.to/sf-python/ProjectNightAtAdroll
URL;VALUE=URI:https://ti.to/sf-python/ProjectNightAtAdroll
END:VEVENT
BEGIN:VEVENT
DTSTAMP:20260425T024522Z
UID:m044MQ1021978
DTSTART;TZID=America/Los_Angeles:20180718T180000
DTEND;TZID=America/Los_Angeles:20180718T213000
CLASS:PUBLIC
CREATED:20180716T094842
DESCRIPTION:6:00p Begin check-in\n\n6:50p Introductions: tell us about your
  project and/or the kind of help you seek\n\n7:00p Make yourself comfortab
 le and start hacking\, or attend one of the tutorials\n\n9:30p Wrap up / D
 oor close
LAST-MODIFIED:20180716T102348
ORGANIZER:mailto:grace@pybay.com
SUMMARY:[Project Night at Adroll] SF Python Project Night
URL;VALUE=URI:https://ti.to/sf-python/ProjectNightAtAdroll
X-ALT-DESC;FMTTYPE=text/html:6:00p Begin check-in\n\n6:50p Introductions: t
 ell us about your project and/or the kind of help you seek\n\n7:00p Make y
 ourself comfortable and start hacking\, or attend one of the tutorials\n\n
 9:30p Wrap up / Door close
URL;VALUE=URI:https://ti.to/sf-python/ProjectNightAtAdroll
END:VEVENT
END:VCALENDAR
