BEGIN:VCALENDAR
VERSION:2.0
PRODID:icalendar-ruby
CALSCALE:GREGORIAN
BEGIN:VTIMEZONE
TZID:America/New_York
BEGIN:DAYLIGHT
DTSTART:20260308T030000
TZOFFSETFROM:-0500
TZOFFSETTO:-0400
RRULE:FREQ=YEARLY;BYDAY=2SU;BYMONTH=3
TZNAME:EDT
END:DAYLIGHT
BEGIN:STANDARD
DTSTART:20251102T010000
TZOFFSETFROM:-0400
TZOFFSETTO:-0500
RRULE:FREQ=YEARLY;BYDAY=1SU;BYMONTH=11
TZNAME:EST
END:STANDARD
END:VTIMEZONE
BEGIN:VEVENT
DTSTAMP:20260426T035142Z
UID:PWLR6w
DTSTART;VALUE=DATE:20251112
DTEND;VALUE=DATE:20251114
CLASS:PUBLIC
CREATED:20241220T070951
DESCRIPTION: Discover innovative ways to drive sales efficiency and turn yo
 ur function into an enablement powerhouse by tapping into the latest think
 ing and industry research. \n\n Through thought leadership and interactive
  discussion\, you'll have the chance to learn from\, and network with\, pi
 oneering enablement experts. \n
LAST-MODIFIED:20260414T065401
LOCATION:Toronto
ORGANIZER:mailto:will@salesenablementcollective.com
SUMMARY:Sales Enablement Summit | Toronto 2025
URL;VALUE=URI:https://ti.to/sequel-media/sales-enablement-summit-toronto-20
 25
URL;VALUE=URI:https://ti.to/sequel-media/sales-enablement-summit-toronto-20
 25
END:VEVENT
END:VCALENDAR
