BEGIN:VCALENDAR
VERSION:2.0
PRODID:icalendar-ruby
CALSCALE:GREGORIAN
BEGIN:VTIMEZONE
TZID:America/Los_Angeles
BEGIN:DAYLIGHT
DTSTART:20230312T030000
TZOFFSETFROM:-0800
TZOFFSETTO:-0700
RRULE:FREQ=YEARLY;BYDAY=2SU;BYMONTH=3
TZNAME:PDT
END:DAYLIGHT
BEGIN:STANDARD
DTSTART:20231105T010000
TZOFFSETFROM:-0700
TZOFFSETTO:-0800
RRULE:FREQ=YEARLY;BYDAY=1SU;BYMONTH=11
TZNAME:PST
END:STANDARD
END:VTIMEZONE
BEGIN:VEVENT
DTSTAMP:20260426T035158Z
UID:eYVWvg
DTSTART;VALUE=DATE:20230524
DTEND;VALUE=DATE:20230526
CLASS:PUBLIC
CREATED:20220803T034605
LAST-MODIFIED:20260414T035401
LOCATION:Las Vegas
ORGANIZER:mailto:jack@salesenablementcollective.com
SUMMARY:Sales Enablement Summit | Las Vegas 2023
URL;VALUE=URI:https://ti.to/sequel-media/sales-enablement-summit-las-vegas-
 2023
URL;VALUE=URI:https://ti.to/sequel-media/sales-enablement-summit-las-vegas-
 2023
END:VEVENT
END:VCALENDAR
