BEGIN:VCALENDAR
VERSION:2.0
PRODID:icalendar-ruby
CALSCALE:GREGORIAN
BEGIN:VTIMEZONE
TZID:America/New_York
BEGIN:DAYLIGHT
DTSTART:20250309T030000
TZOFFSETFROM:-0500
TZOFFSETTO:-0400
RRULE:FREQ=YEARLY;BYDAY=2SU;BYMONTH=3
TZNAME:EDT
END:DAYLIGHT
BEGIN:STANDARD
DTSTART:20241103T010000
TZOFFSETFROM:-0400
TZOFFSETTO:-0500
RRULE:FREQ=YEARLY;BYDAY=1SU;BYMONTH=11
TZNAME:EST
END:STANDARD
END:VTIMEZONE
BEGIN:VEVENT
DTSTAMP:20260423T172818Z
UID:pG53BQ
DTSTART;TZID=America/New_York:20241120T080000
DTEND;TZID=America/New_York:20241121T160000
CLASS:PUBLIC
CREATED:20240111T143202
LAST-MODIFIED:20260414T065401
LOCATION:Toronto
ORGANIZER:mailto:calum@pmmalliance.com
SUMMARY:Product Marketing Summit Toronto | 2024
URL;VALUE=URI:https://ti.to/sequel-media/product-marketing-summit-toronto-2
 024
URL;VALUE=URI:https://ti.to/sequel-media/product-marketing-summit-toronto-2
 024
END:VEVENT
END:VCALENDAR
