BEGIN:VCALENDAR
VERSION:2.0
PRODID:icalendar-ruby
CALSCALE:GREGORIAN
BEGIN:VTIMEZONE
TZID:America/New_York
BEGIN:DAYLIGHT
DTSTART:20250309T030000
TZOFFSETFROM:-0500
TZOFFSETTO:-0400
RRULE:FREQ=YEARLY;BYDAY=2SU;BYMONTH=3
TZNAME:EDT
END:DAYLIGHT
BEGIN:STANDARD
DTSTART:20251102T010000
TZOFFSETFROM:-0400
TZOFFSETTO:-0500
RRULE:FREQ=YEARLY;BYDAY=1SU;BYMONTH=11
TZNAME:EST
END:STANDARD
END:VTIMEZONE
BEGIN:VEVENT
DTSTAMP:20260422T085745Z
UID:EYoL7g
DTSTART;TZID=America/New_York:20250605T080000
DTEND;TZID=America/New_York:20250605T173000
CLASS:PUBLIC
CREATED:20240718T064825
LAST-MODIFIED:20260414T065401
LOCATION:New York
ORGANIZER:mailto:tim@aiacceleratorinstitute.com
SUMMARY:Generative AI Summit | New York 2025
URL;VALUE=URI:https://ti.to/sequel-media/generative-ai-summit-new-york-2025
URL;VALUE=URI:https://ti.to/sequel-media/generative-ai-summit-new-york-2025
END:VEVENT
END:VCALENDAR
