BEGIN:VCALENDAR
VERSION:2.0
PRODID:icalendar-ruby
CALSCALE:GREGORIAN
BEGIN:VTIMEZONE
TZID:America/Los_Angeles
BEGIN:DAYLIGHT
DTSTART:20250309T030000
TZOFFSETFROM:-0800
TZOFFSETTO:-0700
RRULE:FREQ=YEARLY;BYDAY=2SU;BYMONTH=3
TZNAME:PDT
END:DAYLIGHT
BEGIN:STANDARD
DTSTART:20251102T010000
TZOFFSETFROM:-0700
TZOFFSETTO:-0800
RRULE:FREQ=YEARLY;BYDAY=1SU;BYMONTH=11
TZNAME:PST
END:STANDARD
END:VTIMEZONE
BEGIN:VEVENT
DTSTAMP:20260420T154521Z
UID:TgfRYw
DTSTART;TZID=America/Los_Angeles:20250910T080000
DTEND;TZID=America/Los_Angeles:20250910T180000
CLASS:PUBLIC
CREATED:20240930T033855
DESCRIPTION: Developer Marketing San Francisco\, happening on September 10\
 , 2025 is the flagship event for the Developer Marketing Summit global ser
 ies and will bring together the community of developer enabling profession
 als for a day full of unforgettable learnings. \n
LAST-MODIFIED:20260414T035401
LOCATION:San Francisco
ORGANIZER:mailto:aisha.l@pmmalliance.com
SUMMARY:Developer Marketing Summit | San Francisco 2025
URL;VALUE=URI:https://ti.to/sequel-media/developer-marketing-summit-san-fra
 ncisco-2025
URL;VALUE=URI:https://ti.to/sequel-media/developer-marketing-summit-san-fra
 ncisco-2025
END:VEVENT
END:VCALENDAR
