BEGIN:VCALENDAR
VERSION:2.0
PRODID:icalendar-ruby
CALSCALE:GREGORIAN
BEGIN:VEVENT
DTSTAMP:20260422T085658Z
UID:ZQarMA
DTSTART;VALUE=DATE:20190521
DTEND;VALUE=DATE:20190522
CLASS:PUBLIC
CREATED:20190321T235318
DESCRIPTION: Join us at 6:30 pm for a casual gathering of the Sensu Communi
 ty. Learn about Sensu Go and talk to other \nSensu enthusiast including ou
 r Founder\, CEO\, Caleb Hailey\, and CTO\, Sean Porter\, while enjoying de
 licious food and drinks (alcoholic and non-alcoholic options provided). We
 're a short walk from the Hyatt Regency Seattle. \n
LAST-MODIFIED:20231212T102856
LOCATION:Seattle\, WA
ORGANIZER:mailto:meg@sensu.io
SUMMARY:Sensu Community Meetup at ChefConf 2019
URL;VALUE=URI:https://ti.to/sensu/sensu-chef-meetup
URL;VALUE=URI:https://ti.to/sensu/sensu-chef-meetup
END:VEVENT
END:VCALENDAR
