BEGIN:VCALENDAR
VERSION:2.0
PRODID:icalendar-ruby
CALSCALE:GREGORIAN
BEGIN:VTIMEZONE
TZID:America/New_York
BEGIN:DAYLIGHT
DTSTART:20250309T030000
TZOFFSETFROM:-0500
TZOFFSETTO:-0400
RRULE:FREQ=YEARLY;BYDAY=2SU;BYMONTH=3
TZNAME:EDT
END:DAYLIGHT
BEGIN:STANDARD
DTSTART:20251102T010000
TZOFFSETFROM:-0400
TZOFFSETTO:-0500
RRULE:FREQ=YEARLY;BYDAY=1SU;BYMONTH=11
TZNAME:EST
END:STANDARD
END:VTIMEZONE
BEGIN:VEVENT
DTSTAMP:20260420T101353Z
UID:Nx6O8g
DTSTART;TZID=America/New_York:20250724T100000
DTEND;TZID=America/New_York:20250813T120000
CLASS:PUBLIC
CREATED:20250516T091708
DESCRIPTION: Product Discovery for Cross-Functional Teams -- Live Online Co
 hort (4 x 2hr sessions) \n\n \n\n Timing: TBD\nLive Online (Zoom) \n\n   \
 n\n \n\n IMPORTANT CLASS INFORMATION: \n\n  \nThis is a cohort-based class
  with limited seats available (max 20). The class takes place over four (4
 ) live online class sessions that meet once a week on: \n\n \n Date: TBD \
 n Time: TBD \n \n\n This class was created by Sense &amp\; Respond Learnin
 g co-founders Josh Seiden and Jeff Gothelf. \n\n Josh and Jeff are world-r
 enowned thought leaders in the space of product management\, product disco
 very and OKRs. They're the authors of Lean UX (which serves as the basis f
 or this class)\, Sense &amp\; Respond\, and Who Does What By How Much? A P
 ractical Guide To Customer-Centric OKRs. \n\n \n\n Build better products b
 y discovering the right problems to solve. \n\n  \nLearn how Product Disco
 very techniques and Lean UX can transform your agile practice. This course
  helps cross-functional teams define assumptions\, validate ideas quickly\
 , and build what customers really need through hands-on\, practical tools.
  \n\n \n\n What happened? Why did your last idea fall flat with users or l
 eadership? \n\n \n It's not just about building things right. It's about b
 uilding the right things. And often\, that means learning how to test assu
 mptions before committing resources. \n \n\n We are often expected to "do 
 discovery" but rarely trained in how to do it well. This course fills that
  gap. \n\n Using a mix of lecture\, discussion\, real-world examples\, and
  hands-on discovery practices\, we introduce a concise set of tools and me
 thods to help your cross-functional teams learn fast and align around valu
 e. \n
LAST-MODIFIED:20250812T095728
LOCATION:Live Online (Zoom)
ORGANIZER:mailto:chantal@productevangelist.co
SUMMARY:Product Discovery for Cross-Functional Teams - Live Online Workshop
  with Chantal Botana & Maurice McGinley [ENG]
URL;VALUE=URI:https://ti.to/sense-respond-learning/product-discovery-for-ag
 ile-teams-live-online
URL;VALUE=URI:https://ti.to/sense-respond-learning/product-discovery-for-ag
 ile-teams-live-online
END:VEVENT
END:VCALENDAR
