BEGIN:VCALENDAR
VERSION:2.0
PRODID:icalendar-ruby
CALSCALE:GREGORIAN
BEGIN:VTIMEZONE
TZID:America/New_York
BEGIN:DAYLIGHT
DTSTART:20250309T030000
TZOFFSETFROM:-0500
TZOFFSETTO:-0400
RRULE:FREQ=YEARLY;BYDAY=2SU;BYMONTH=3
TZNAME:EDT
END:DAYLIGHT
BEGIN:STANDARD
DTSTART:20251102T010000
TZOFFSETFROM:-0400
TZOFFSETTO:-0500
RRULE:FREQ=YEARLY;BYDAY=1SU;BYMONTH=11
TZNAME:EST
END:STANDARD
END:VTIMEZONE
BEGIN:VEVENT
DTSTAMP:20260423T175117Z
UID:2uMB4g
DTSTART;TZID=America/New_York:20250729T090000
DTEND;TZID=America/New_York:20250729T130000
CLASS:PUBLIC
CREATED:20250602T053853
DESCRIPTION: \n\n  \n  \n\n IMPORTANT CLASS INFORMATION: \n\n This is a coh
 ort-based class with limited seats available (max 20). The class takes pla
 ce over 1 live online\, half-day class that will meet: \n\n \n July 29th\,
  2025 \n Starting at 9:00 AM EDT until 1:00 PM EDT (14:00 BST / 15:00 CET)
 . \n \n\n   \n\n \n\n  \n  \n\n Lean AI: A Half-Day Workshop on Applying L
 ean Startup Principles to AI Implementation \n\n   \n\n Build AI Solutions
  That Actually Deliver Value \n\n  \nIn this hands-on\, half-day workshop\
 , we bring together the proven power of The Lean Startup with real-world e
 xperience implementing AI in complex organizations. You’ll learn a struc
 tured approach to validating AI use cases before you invest time and money
  building them—so you can move faster\, reduce waste\, and deliver solut
 ions that work. \n\n  \nThis is a joint collaboration between Lean Startup
  Co. and Sense &amp\; Respond Learning\, taught by Jeff Gothelf and Josh S
 eiden—best-selling authors and co-founders of Sense &amp\; Respond Learn
 ing. \n\n  \nWhether you're experimenting with AI use cases or scaling AI-
 enabled products\, this workshop gives you the tools to de-risk your inves
 tments and maximize impact. \n\n \n\n  \n
LAST-MODIFIED:20250711T081753
LOCATION:Live Online (Zoom)
ORGANIZER:mailto:jeff@senseandrespond.co
SUMMARY:Lean AI: A Half-Day Workshop on Applying Lean Startup Principles to
  AI Implementation with Jeff Gothelf and Josh Seiden [ENG]
URL;VALUE=URI:https://ti.to/sense-respond-learning/lean-ai
URL;VALUE=URI:https://ti.to/sense-respond-learning/lean-ai
END:VEVENT
END:VCALENDAR
