BEGIN:VCALENDAR
VERSION:2.0
PRODID:icalendar-ruby
CALSCALE:GREGORIAN
BEGIN:VTIMEZONE
TZID:Europe/Madrid
BEGIN:DAYLIGHT
DTSTART:20240331T030000
TZOFFSETFROM:+0100
TZOFFSETTO:+0200
RRULE:FREQ=YEARLY;BYDAY=-1SU;BYMONTH=3
TZNAME:CEST
END:DAYLIGHT
BEGIN:STANDARD
DTSTART:20241027T020000
TZOFFSETFROM:+0200
TZOFFSETTO:+0100
RRULE:FREQ=YEARLY;BYDAY=-1SU;BYMONTH=10
TZNAME:CET
END:STANDARD
END:VTIMEZONE
BEGIN:VEVENT
DTSTAMP:20260424T192111Z
UID:FDlirg
DTSTART;TZID=Europe/Madrid:20241025T160000
DTEND;TZID=Europe/Madrid:20241025T203000
CLASS:PUBLIC
CREATED:20241009T150441
DESCRIPTION: El viernes 25 de octubre\, volvemos y ya van tres... \n\n Volv
 emos con las Securiters Talks\, ya sabéis las tardes de charlas para hace
 r comunidad y seguir compartiendo conocimiento sobre ciberseguridad.\nNos 
 gusta tocar diferentes palos y en esta ocasión hablaremos de IA\, Wifi\, 
 criminología y lockpicking. \n\n En esta ocasión as charlas* estarán im
 partidas por: \n\n \n Pedro Robledo (@Sr4nd3rs0n) - Lockpicking \n Iris Ma
 rtín (@LadyRoot_) - IA \n María Aperador (@mariaaperador) - Criminologí
 a \n Raúl Calvo Laorden (@_r4ulcl_) - Hacking Wifi \n \n\n  \n* Horario d
 e charlas por determinar \n\n Con la colaboración de la UC3M. \n\n Financ
 iador INCIBE\, en el marco del proyecto VITAL-IoT de la UC3M \n\n Patrocin
 adores: \n\n \n uc3m \n Advens \n Zerolynx \n SwissRe \n Hack by Security 
 \n \n\n   \n\n \n\n Esta iniciativa se realiza en el marco de los fondos d
 el Plan de Recuperación\, Transformación y Resiliencia\, financiadas por
  la Unión Europea (Next Generation)\, el proyecto del Gobierno de España
  que traza la hoja de ruta para la modernización de la economía español
 a\, la recuperación del crecimiento económico y la creación de empleo\,
  para la reconstrucción económica sólida\, inclusiva y resiliente tras 
 la crisis de la COVID19\, y para responder a los retos de la próxima déc
 ada \n
LAST-MODIFIED:20241023T163443
LOCATION:Universidad Carlos III de Madrid-Puerta de Toledo Campus
ORGANIZER:mailto:info@securiters.com
SUMMARY:Securiters Talks
URL;VALUE=URI:https://ti.to/securiters/securiterstalks
URL;VALUE=URI:https://ti.to/securiters/securiterstalks
END:VEVENT
END:VCALENDAR
