BEGIN:VCALENDAR
VERSION:2.0
PRODID:icalendar-ruby
CALSCALE:GREGORIAN
BEGIN:VTIMEZONE
TZID:Europe/Madrid
BEGIN:DAYLIGHT
DTSTART:20260329T030000
TZOFFSETFROM:+0100
TZOFFSETTO:+0200
RRULE:FREQ=YEARLY;BYDAY=-1SU;BYMONTH=3
TZNAME:CEST
END:DAYLIGHT
BEGIN:STANDARD
DTSTART:20251026T020000
TZOFFSETFROM:+0200
TZOFFSETTO:+0100
RRULE:FREQ=YEARLY;BYDAY=-1SU;BYMONTH=10
TZNAME:CET
END:STANDARD
END:VTIMEZONE
BEGIN:VEVENT
DTSTAMP:20260424T191900Z
UID:HPedMA
DTSTART;TZID=Europe/Madrid:20251031T170000
DTEND;TZID=Europe/Madrid:20251031T200000
CLASS:PUBLIC
CREATED:20251017T124759
DESCRIPTION: El viernes 31 de octubre\, volvemos... \n\n Volvemos con las S
 ecuriters Talks\, ya sabéis las tardes de charlas para hacer comunidad y 
 seguir compartiendo conocimiento sobre ciberseguridad.\nNos gusta tocar di
 ferentes palos y en esta ocasión hablaremos de hacking\, cloud y CTI \n\n
  En esta ocasión as charlas* estarán impartidas por: \n\n \n Elisa Alise
 s \n Raquel Gálvez \n Ainoa Guillén \n \n\n Las charlas serán en el sal
 ón de grados. \n\n * Horario de charlas por determinar \n\n Con la colabo
 ración de la UC3M. \n\n Financiador INCIBE\, en el marco del proyecto VIT
 AL-IoT de la UC3M \n\n Patrocinadores: \n\n \n uc3m \n SwissRe \n Hack by 
 Security \n \n\n   \n\n \n\n Esta iniciativa se realiza en el marco de los
  fondos del Plan de Recuperación\, Transformación y Resiliencia\, financ
 iadas por la Unión Europea (Next Generation)\, el proyecto del Gobierno d
 e España que traza la hoja de ruta para la modernización de la economía
  española\, la recuperación del crecimiento económico y la creación de
  empleo\, para la reconstrucción económica sólida\, inclusiva y resilie
 nte tras la crisis de la COVID19\, y para responder a los retos de la pró
 xima década \n
LAST-MODIFIED:20251031T154843
LOCATION:Universidad Carlos III de Madrid-Puerta de Toledo Campus
ORGANIZER:mailto:info@securiters.com
SUMMARY:Securiters Talks Octubre 2025
URL;VALUE=URI:https://ti.to/securiters/securiterstalks-oct2025
URL;VALUE=URI:https://ti.to/securiters/securiterstalks-oct2025
END:VEVENT
END:VCALENDAR
