BEGIN:VCALENDAR
VERSION:2.0
PRODID:icalendar-ruby
CALSCALE:GREGORIAN
BEGIN:VTIMEZONE
TZID:Europe/London
BEGIN:DAYLIGHT
DTSTART:20250330T020000
TZOFFSETFROM:+0000
TZOFFSETTO:+0100
RRULE:FREQ=YEARLY;BYDAY=-1SU;BYMONTH=3
TZNAME:BST
END:DAYLIGHT
BEGIN:STANDARD
DTSTART:20251026T010000
TZOFFSETFROM:+0100
TZOFFSETTO:+0000
RRULE:FREQ=YEARLY;BYDAY=-1SU;BYMONTH=10
TZNAME:GMT
END:STANDARD
END:VTIMEZONE
BEGIN:VEVENT
DTSTAMP:20260422T091950Z
UID:jC4bvA
DTSTART;TZID=Europe/London:20250613T170000
DTEND;TZID=Europe/London:20250613T220000
CLASS:PUBLIC
CREATED:20250518T191913
DESCRIPTION: Welcome to Liberation Laser Meetup! \n\n  \nAn informal gather
 ing for the next generation of laserists. Whether you’re just starting o
 ut or have years of experience\, you’re invited to learn\, share\, and p
 lay with lasers in good company. \n\n \n\n Diversity and Inclusion \n\n We
  actively welcome women\, non-binary\, trans\, queer\, BIPOC\, and other u
 nderrepresented groups in the events industry. Allies are warmly invited t
 oo. \n\n We're committed to creating a supportive\, inclusive space for al
 l. \n\n \n\n Event Program \n\n Meet new people\, learn together\, and des
 ign and operate lasers in a relaxed\, collaborative environment. We'll be 
 working with Liberation laser software\, with a full laser setup for every
 one to control. \n\n   \n\n Getting Started (or Re-Started) with Liberatio
 n \n\n A welcoming session to get you up and running — perfect if you're
  brand new or just need a quick refresher. We’ll cover the basics and ge
 t everyone ready to jam. \n\n  \nLiberation Laser Jam \n\n A freestyle ses
 sion where anyone can jump in\, create their own laser shows\, and see the
 ir ideas come alive with real lasers. \n\n  \n💻 Bring Your Laptop \n\n 
 To get the most out of the event\, bringing your laptop is highly recommen
 ded — so you can follow along and start creating your own laser shows. \
 n\n Mac and PC both welcome. \n\n  \n  \n\n \n\n 🛠️ Optional: Volunte
 er Setup (Afternoon) \n\n The team will be on site from 2:00pm setting up 
 lasers. \n\n If you're curious about rigging\, cabling\, and zoning\, feel
  free to come early and lend a hand while learning in a hands-on way. \n\n
   \n  \n\n \n\n 🎉 Bonus Event: Fundraiser Party – 14 June \n\n Come b
 ack the next night for a fundraiser party at the same venue! \n\n We’ll 
 be running lasers all night — and you're welcome to help operate them. L
 et us know if you’d like to join the crew. \n\n  \nYou can also support 
 Limehouse Town Hall by donating or grabbing a ticket: \n\n 🔗 Party Util
 ity Tickets \n\n These parties are always fun\, and we'll be bringing the 
 lasers. \n\n  \n  \n\n \n\n For Experienced Laserists \n\n If you'd like t
 o bring your own lasers or gear for the meetup\, please get in touch and l
 et us know what you're bringing. \n\n  \n  \n\n \n\n Schedule – 13 June 
 \n\n (from 2:00pm – optional volunteer setup) \n\n 5:00pm – Doors Open
  \n\n 5:00–6:00pm – Getting Started with Liberation \n\n 6:00pm onward
  – Liberation Laser Jam \n\n Feel free to stay the whole evening or drop
  in any time. \n\n   \n\n \n\n Come join us for an evening of Liberation l
 asers and community! \n\n  \n \nMore information about Liberation: \n\n ht
 tps://liberationlaser.com \n\n Facebook Instagram @LiberationLaser \n\n  \
 nCode of Conduct \n\n \n\n This event is organised by Abby Shum \n\n Mobil
 e: (+44) 7746 364085 \n
LAST-MODIFIED:20250617T163337
LOCATION:Limehouse Town Hall\, London
ORGANIZER:mailto:abby@liberationlaser.com
SUMMARY:Liberation Laser Meetup - June 2025
URL;VALUE=URI:https://ti.to/sebly/liberationmeetup25-1
URL;VALUE=URI:https://ti.to/sebly/liberationmeetup25-1
END:VEVENT
END:VCALENDAR
