BEGIN:VCALENDAR
VERSION:2.0
PRODID:icalendar-ruby
CALSCALE:GREGORIAN
BEGIN:VEVENT
DTSTAMP:20260420T175144Z
UID:pwsy5w
DTSTART;VALUE=DATE:20161105
DTEND;VALUE=DATE:20161107
CLASS:PUBLIC
CREATED:20160912T160922
DESCRIPTION: It’s such an exciting time to be an ASP.NET developer. With 
 Microsoft finally releasing ASP.NET Core and the ES 2015 spec being ratifi
 ed\, so many more possibilities have been opened up for us. While there’
 s still quite a few familiar concepts\, there are also new features that w
 ill improve the way we approach building web applications. \n\n In this 2 
 day workshop\, you will get up to speed with ASP.NET Core and ES 2015. You
 ’ll get a solid foundation on the fundamentals\, and learn how to accomp
 lish some common tasks. We’ll highlight some of the major new features\,
  explain their benefits and also show you how to apply them. Some of the t
 opics that will be covered include: \n\n \n Understanding .NET Core \n The
  Razor engine and TagHelpers \n Accessing data with Entity Framework Core 
 \n Securing your site with ASP.NET Core Identity \n ES 2015 Tooling and Te
 sting \n Front-End Architecture with Modules\, MVVM and more \n Web Compon
 ents and The Modern Browser \n Popular Data Access Libraries \n \n
LAST-MODIFIED:20161017T151517
LOCATION:Fort Lauderdale\, Florida
ORGANIZER:mailto:noreply-calendar@tito.io
SUMMARY:Building Modern Web Apps with ASP.NET Core and ES 2015
URL;VALUE=URI:https://ti.to/scyonx-studios/modern-web-apps-with-aspnetcore-
 and-es2015
URL;VALUE=URI:https://ti.to/scyonx-studios/modern-web-apps-with-aspnetcore-
 and-es2015
END:VEVENT
END:VCALENDAR
