BEGIN:VCALENDAR
VERSION:2.0
PRODID:icalendar-ruby
CALSCALE:GREGORIAN
BEGIN:VTIMEZONE
TZID:America/Los_Angeles
BEGIN:DAYLIGHT
DTSTART:20240310T030000
TZOFFSETFROM:-0800
TZOFFSETTO:-0700
RRULE:FREQ=YEARLY;BYDAY=2SU;BYMONTH=3
TZNAME:PDT
END:DAYLIGHT
BEGIN:STANDARD
DTSTART:20241103T010000
TZOFFSETFROM:-0700
TZOFFSETTO:-0800
RRULE:FREQ=YEARLY;BYDAY=1SU;BYMONTH=11
TZNAME:PST
END:STANDARD
END:VTIMEZONE
BEGIN:VEVENT
DTSTAMP:20260424T074117Z
UID:4aLxog
DTSTART;VALUE=DATE:20240708
DTEND;VALUE=DATE:20240715
CLASS:PUBLIC
CREATED:20240213T114527
DESCRIPTION: SciPy brings together attendees from industry\, academia and g
 overnment to showcase their latest projects\, learn from skilled users and
  developers\, and collaborate on code development. \n\n  \nConference Tier
 s\n *Final price includes a 3.9% processing fee \n\n | Standard | Academic
  | Student | Virtual |\n| -------- | -------- | ------- | ------- |\n| Con
 ference &amp\; Tutorials $1\,100 | Conference &amp\; Tutorials $900 | Conf
 erence &amp\; Tutorials $600 | Conference Only $100 |\n| Tutorials Only $5
 75 | Tutorials Only $475 | Tutorials Only $300 | |\n| Conference Only $525
  | Conference Only $425 | Conference Only $300 | |\n \nTeen Track\nSciPy i
 s excited to once again offer our Teen Track\, July 8-9. If you are 14-18 
 years old\, please join us to learn more about the Python language and how
  developers solve real world scientific problems using Python and its scie
 ntific libraries. Cost is $75 to reserve your spot. More information at ht
 tps://www.scipy2024.scipy.org/#Teen-Track. \n\n Hotel Information\nHotel r
 ooms are available at the Hotel Murano at a reduced rate of $179/night for
  conference attendees. These fill up quickly\, so be sure to make your arr
 angements as soon as possible. The hotel is a 3 minute walk from the conve
 ntion center. Reservations can be made at this Booking Link. \n\n  \nTutor
 ial Registration\nThose with tutorial tickets will receive an email closer
  to the conference date\, prompting them to register for the specific tuto
 rials they wish to attend. This will ensure we can schedule each tutorial 
 in the appropriately sized room. However\, our new venue can accommodate l
 arger groups\, removing concerns about exceeding capacity for any tutorial
  session. \n
LAST-MODIFIED:20260126T091528
LOCATION:Tacoma\, WA
ORGANIZER:mailto:community@scipy.org
SUMMARY:SciPy 2024
URL;VALUE=URI:https://ti.to/scipy/scipy2024
URL;VALUE=URI:https://ti.to/scipy/scipy2024
END:VEVENT
END:VCALENDAR
