BEGIN:VCALENDAR
VERSION:2.0
PRODID:icalendar-ruby
CALSCALE:GREGORIAN
BEGIN:VEVENT
DTSTAMP:20260421T135309Z
UID:vK8m7w
DTSTART;VALUE=DATE:20210617
DTEND;VALUE=DATE:20210618
CLASS:PUBLIC
CREATED:20210608T090836
DESCRIPTION: Wo und Wann \n\n Der Vortrag findet per Video-Konferenz (BlueJ
 eans-Events) am 17.06.2021 in der Zeit von 13:00 - 14:00 Uhr statt. \n\n A
 bstract \n\n Die Kommandozeile (CLI) ist eines der mächtigsten Werkzeuge\
 , das uns Entwicklern zur Verfügung steht (und manchmal auch das einzige)
 . Gerade im Linux-Umfeld wurden in den letzten Jahrzehnten viele\nnützlic
 he Tools entwickelt um uns das Leben zu erleichtern. Oder manchmal auch ei
 nfach nur um uns ein Schmunzeln auf die Lippen zu zaubern.\nIn dieser Sess
 ion möchte ich euch ein Potpourri an Linux CLI Tools vorstellen: Von der 
 Kategorie "installiere ich auf jedem Server" bis hin zu "Pimp my Command P
 rompt".\nWarum?\nEgal ob unter Windows mit WSL2 (oder einfach nur Git-Bash
 )\, auf dem heimischen Raspberry Pi\, oder bei den meisten Cloud Anbietern
 : Die Linux CLI ist überall vorhanden!\nDie Session richtet sich auch bew
 usst an Linux und CLI Neulinge! \n\n Bio \n\n Dr. Patrick Drechsler ist So
 ftware Entwickler bei MATHEMA GmbH. Hier arbeitet er schwerpunktmäßig im
  C#/.NET Umfeld. Seine Steckenpferde sind \n\n \n Software Crafting \n Fun
 ktionales Programmieren \n Domain-Driven Design \n \n\n Auch wenn er sich 
 hauptberuflich seit über einem Jahrzehnt eher im .NET Umfeld bewegt\, bev
 orzugt er privat Linux als Desktop Umgebung. Außerhalb der Arbeit trifft 
 man Patrick in COVID-freien Zeiten auch häufig auf lokalen Software-Craft
 ing Events und Meetups. \n
LAST-MODIFIED:20230321T124603
LOCATION:via BlueJeans-Events
ORGANIZER:mailto:scc@datev.de
SUMMARY:Modern Linux CommandLine Tools
URL;VALUE=URI:https://ti.to/scc-datev/modern-linux-cli-tools
URL;VALUE=URI:https://ti.to/scc-datev/modern-linux-cli-tools
END:VEVENT
END:VCALENDAR
