BEGIN:VCALENDAR
VERSION:2.0
PRODID:icalendar-ruby
CALSCALE:GREGORIAN
BEGIN:VEVENT
DTSTAMP:20260419T204725Z
UID:a5Bm5A
DTSTART;VALUE=DATE:20190507
DTEND;VALUE=DATE:20190510
CLASS:PUBLIC
CREATED:20190130T162341
DESCRIPTION: The main day (8 May) of CoLab: Milan will take place at the Fa
 ema Flagship Store and neighbouring hotel Magna Pars. We'll host a morning
  of coffee talks with three speakers before an afternoon of engaging works
 hops and the opportunity to investigate the morning talks in depth. This i
 s your chance to get hands-on and engage with the event speakers as part o
 f the CoLab format. In addition to the main day's activities\, the program
  will provide activities for CoLab'ers to investigate the local coffee sce
 ne through tours\, roastery visits and cuppings! \n
LAST-MODIFIED:20220912T124020
LOCATION:Milan\, Italy 
ORGANIZER:mailto:hannahd@sca.coffee
SUMMARY:CoLab: Milan
URL;VALUE=URI:https://ti.to/sca-events/colab-milan
URL;VALUE=URI:https://ti.to/sca-events/colab-milan
END:VEVENT
END:VCALENDAR
