BEGIN:VCALENDAR
VERSION:2.0
PRODID:icalendar-ruby
CALSCALE:GREGORIAN
BEGIN:VEVENT
DTSTAMP:20260420T131707Z
UID:MEHJXQ
DTSTART;VALUE=DATE:20190910
DTEND;VALUE=DATE:20190914
CLASS:PUBLIC
CREATED:20190523T081558
DESCRIPTION: Barista Camp focuses on offering an opportunity to develop and
  learn as a barista\, in a setting that promotes sharing ideas and experie
 nces and being part of a wider community. The event runs over 4 days and i
 ncludes professional education\, cutting-edge lectures and tastings\, and 
 loads of fun. \n\n Make sure to add the discount code 'GUILDSCA' to receiv
 e the 100 EURO member discount or add the discount code 'SCA' to receive t
 he 50 EURO discount     \n\n In order to receive the membership discount\,
  enter the discount code below\, supply the attendee's SCA number in the q
 uestions\, and the discount will be granted in these cases: \n\n \n €100
  discount if the attendee has a personal membership (in his/her own name) 
 in the Barista category (this number can only be used for 1 discounted tic
 ket) \n €100 discount if the attendee is registered as a Barista Guild m
 ember under a Company membership (this number can only be used for 1 disco
 unted ticket) \n €50 discount if the attendee is registered as an Indivi
 dual Professional SCA member\, is registered as a company representative\,
  or are members in other categories (Technician or Roaster) – this numbe
 r can only be used for 1 discounted ticket \n \n\n For a Group Rate discou
 nt make sure to add the code 'GROUPRATE' when purchasing 4 or more full at
 tendee tickets. \n\n In order to receive the group rate discount\, enter t
 he discount code below. The discount will only be granted where all 4 atte
 ndees work for the same company.  \n\n Ticket buyers are invited to select
  their track preference and complete registration via email once payment h
 as been made.  \n\n PLEASE NOTE: BARISTA INTERMEDIATE\, BREWING INTERMEDIA
 TE AND SENSORY PROFESSIONAL ARE NOW SOLD OUT! \n
LAST-MODIFIED:20220912T124020
LOCATION:Anavissos\, Greece 
ORGANIZER:mailto:laurah@sca.coffee
SUMMARY:Barista Camp 2019
URL;VALUE=URI:https://ti.to/sca-events/barista-camp-2019
URL;VALUE=URI:https://ti.to/sca-events/barista-camp-2019
END:VEVENT
END:VCALENDAR
