BEGIN:VCALENDAR
VERSION:2.0
PRODID:icalendar-ruby
CALSCALE:GREGORIAN
BEGIN:VEVENT
DTSTAMP:20260422T113523Z
UID:SblCBQ
DTSTART;VALUE=DATE:20150430
DTEND;VALUE=DATE:20150501
CLASS:PUBLIC
CREATED:20150407T183015
DESCRIPTION: A booze-fueled night bazaar welcoming live music\, art\, cooki
 ng and cocktailing. \n
LAST-MODIFIED:20150501T213606
LOCATION:Locallective\, 1257 N. Milwaukee Ave\, 2nd Floor
ORGANIZER:mailto:info@saucedmarket.com
SUMMARY:Overproofed // presented by Locallective + SAUCED
URL;VALUE=URI:https://ti.to/sauced/overproofed
URL;VALUE=URI:https://ti.to/sauced/overproofed
END:VEVENT
END:VCALENDAR
